BEGIN:VCALENDAR
VERSION:2.0
PRODID:-//Glastonbury United Reformed Church - ECPv6.15.14//NONSGML v1.0//EN
CALSCALE:GREGORIAN
METHOD:PUBLISH
X-ORIGINAL-URL:https://glastonburyurc.uk
X-WR-CALDESC:Events for Glastonbury United Reformed Church
REFRESH-INTERVAL;VALUE=DURATION:PT1H
X-Robots-Tag:noindex
X-PUBLISHED-TTL:PT1H
BEGIN:VTIMEZONE
TZID:Europe/London
BEGIN:DAYLIGHT
TZOFFSETFROM:+0000
TZOFFSETTO:+0100
TZNAME:BST
DTSTART:20240331T010000
END:DAYLIGHT
BEGIN:STANDARD
TZOFFSETFROM:+0100
TZOFFSETTO:+0000
TZNAME:GMT
DTSTART:20241027T010000
END:STANDARD
BEGIN:DAYLIGHT
TZOFFSETFROM:+0000
TZOFFSETTO:+0100
TZNAME:BST
DTSTART:20250330T010000
END:DAYLIGHT
BEGIN:STANDARD
TZOFFSETFROM:+0100
TZOFFSETTO:+0000
TZNAME:GMT
DTSTART:20251026T010000
END:STANDARD
BEGIN:DAYLIGHT
TZOFFSETFROM:+0000
TZOFFSETTO:+0100
TZNAME:BST
DTSTART:20260329T010000
END:DAYLIGHT
BEGIN:STANDARD
TZOFFSETFROM:+0100
TZOFFSETTO:+0000
TZNAME:GMT
DTSTART:20261025T010000
END:STANDARD
END:VTIMEZONE
BEGIN:VEVENT
DTSTART;TZID=Europe/London:20251109T103000
DTEND;TZID=Europe/London:20251109T103000
DTSTAMP:20260420T031142
CREATED:20251030T173239Z
LAST-MODIFIED:20251030T173240Z
UID:4086-1762684200-1762684200@glastonburyurc.uk
SUMMARY:SERVICE in church
DESCRIPTION:
URL:https://glastonburyurc.uk/event/service-in-church/
CATEGORIES:regular event
END:VEVENT
BEGIN:VEVENT
DTSTART;TZID=Europe/London:20251109T103000
DTEND;TZID=Europe/London:20251109T103000
DTSTAMP:20260420T031142
CREATED:20251030T174259Z
LAST-MODIFIED:20251030T174259Z
UID:4093-1762684200-1762684200@glastonburyurc.uk
SUMMARY:WORSHIP in church
DESCRIPTION:
URL:https://glastonburyurc.uk/event/worship-in-church-2/
CATEGORIES:regular event
END:VEVENT
BEGIN:VEVENT
DTSTART;TZID=Europe/London:20251121T140000
DTEND;TZID=Europe/London:20251121T160000
DTSTAMP:20260420T031142
CREATED:20251030T163728Z
LAST-MODIFIED:20251030T171947Z
UID:4058-1763733600-1763740800@glastonburyurc.uk
SUMMARY:ELDERHOOD GROUP in meeting room
DESCRIPTION:
URL:https://glastonburyurc.uk/event/fellowship-in-meeting-room/
CATEGORIES:regular event
END:VEVENT
BEGIN:VEVENT
DTSTART;TZID=Europe/London:20251130T100000
DTEND;TZID=Europe/London:20251130T100000
DTSTAMP:20260420T031142
CREATED:20251030T172608Z
LAST-MODIFIED:20251030T173054Z
UID:4083-1764496800-1764496800@glastonburyurc.uk
SUMMARY:WORSHIP in church
DESCRIPTION:
URL:https://glastonburyurc.uk/event/worship-in-church/
CATEGORIES:regular event
END:VEVENT
END:VCALENDAR