BEGIN:VCALENDAR
VERSION:2.0
PRODID:-//Glastonbury United Reformed Church - ECPv6.15.14//NONSGML v1.0//EN
CALSCALE:GREGORIAN
METHOD:PUBLISH
X-WR-CALNAME:Glastonbury United Reformed Church
X-ORIGINAL-URL:https://glastonburyurc.uk
X-WR-CALDESC:Events for Glastonbury United Reformed Church
REFRESH-INTERVAL;VALUE=DURATION:PT1H
X-Robots-Tag:noindex
X-PUBLISHED-TTL:PT1H
BEGIN:VTIMEZONE
TZID:Europe/London
BEGIN:DAYLIGHT
TZOFFSETFROM:+0000
TZOFFSETTO:+0100
TZNAME:BST
DTSTART:20240331T010000
END:DAYLIGHT
BEGIN:STANDARD
TZOFFSETFROM:+0100
TZOFFSETTO:+0000
TZNAME:GMT
DTSTART:20241027T010000
END:STANDARD
BEGIN:DAYLIGHT
TZOFFSETFROM:+0000
TZOFFSETTO:+0100
TZNAME:BST
DTSTART:20250330T010000
END:DAYLIGHT
BEGIN:STANDARD
TZOFFSETFROM:+0100
TZOFFSETTO:+0000
TZNAME:GMT
DTSTART:20251026T010000
END:STANDARD
BEGIN:DAYLIGHT
TZOFFSETFROM:+0000
TZOFFSETTO:+0100
TZNAME:BST
DTSTART:20260329T010000
END:DAYLIGHT
BEGIN:STANDARD
TZOFFSETFROM:+0100
TZOFFSETTO:+0000
TZNAME:GMT
DTSTART:20261025T010000
END:STANDARD
END:VTIMEZONE
BEGIN:VEVENT
DTSTART;TZID=Europe/London:20250515T143000
DTEND;TZID=Europe/London:20250515T153000
DTSTAMP:20260419T160526
CREATED:20250508T165036Z
LAST-MODIFIED:20250508T165036Z
UID:3855-1747319400-1747323000@glastonburyurc.uk
SUMMARY:Contemplative Prayer in Meeting Room
DESCRIPTION:
URL:https://glastonburyurc.uk/event/contemplative-prayer-in-meeting-room/
END:VEVENT
BEGIN:VEVENT
DTSTART;TZID=Europe/London:20250515T103000
DTEND;TZID=Europe/London:20250515T123000
DTSTAMP:20260419T160526
CREATED:20250506T163131Z
LAST-MODIFIED:20250508T165518Z
UID:3815-1747305000-1747312200@glastonburyurc.uk
SUMMARY:Christian Aid Week Breakfast:Large Hall
DESCRIPTION:
URL:https://glastonburyurc.uk/event/christian-aid-week-breakfastlarge-hall/
END:VEVENT
BEGIN:VEVENT
DTSTART;TZID=Europe/London:20250514T170000
DTEND;TZID=Europe/London:20250514T183000
DTSTAMP:20260419T160526
CREATED:20250506T162716Z
LAST-MODIFIED:20250506T162717Z
UID:3813-1747242000-1747247400@glastonburyurc.uk
SUMMARY:Group in Meeting Room
DESCRIPTION:
URL:https://glastonburyurc.uk/event/group-in-meeting-room-2/
END:VEVENT
BEGIN:VEVENT
DTSTART;TZID=Europe/London:20250513T170000
DTEND;TZID=Europe/London:20250513T213000
DTSTAMP:20260419T160526
CREATED:20250506T162320Z
LAST-MODIFIED:20250506T162321Z
UID:3811-1747155600-1747171800@glastonburyurc.uk
SUMMARY:Group in Meeting Room
DESCRIPTION:
URL:https://glastonburyurc.uk/event/group-in-meeting-room/
END:VEVENT
BEGIN:VEVENT
DTSTART;TZID=Europe/London:20250513T090000
DTEND;TZID=Europe/London:20250513T110000
DTSTAMP:20260419T160526
CREATED:20250506T162146Z
LAST-MODIFIED:20250506T162146Z
UID:3809-1747126800-1747134000@glastonburyurc.uk
SUMMARY:Breakfast Club in Large Hall
DESCRIPTION:
URL:https://glastonburyurc.uk/event/breakfast-club-in-large-hall-2/
END:VEVENT
BEGIN:VEVENT
DTSTART;TZID=Europe/London:20250511T103000
DTEND;TZID=Europe/London:20250511T115500
DTSTAMP:20260419T160526
CREATED:20250506T161846Z
LAST-MODIFIED:20250506T161846Z
UID:3807-1746959400-1746964500@glastonburyurc.uk
SUMMARY:Meeting for Worship in the Church
DESCRIPTION:
URL:https://glastonburyurc.uk/event/meeting-for-worship-in-the-church/
END:VEVENT
BEGIN:VEVENT
DTSTART;TZID=Europe/London:20250510T090000
DTEND;TZID=Europe/London:20250510T100000
DTSTAMP:20260419T160526
CREATED:20250506T152455Z
LAST-MODIFIED:20250506T152456Z
UID:3792-1746867600-1746871200@glastonburyurc.uk
SUMMARY:Breakfast Club in Large Hall
DESCRIPTION:
URL:https://glastonburyurc.uk/event/breakfast-club-in-large-hall/
END:VEVENT
BEGIN:VEVENT
DTSTART;TZID=Europe/London:20250507T103000
DTEND;TZID=Europe/London:20250507T113000
DTSTAMP:20260419T160526
CREATED:20250506T152202Z
LAST-MODIFIED:20250506T152202Z
UID:3790-1746613800-1746617400@glastonburyurc.uk
SUMMARY:Meeting in Large Hall
DESCRIPTION:
URL:https://glastonburyurc.uk/event/meeting-in-large-hall/
END:VEVENT
BEGIN:VEVENT
DTSTART;TZID=Europe/London:20250506T090000
DTEND;TZID=Europe/London:20250506T110000
DTSTAMP:20260419T160526
CREATED:20250506T143705Z
LAST-MODIFIED:20250506T161337Z
UID:3781-1746522000-1746529200@glastonburyurc.uk
SUMMARY:Breakfast Club in Large Hall
DESCRIPTION:
URL:https://glastonburyurc.uk/event/breakfast-club-2/
END:VEVENT
BEGIN:VEVENT
DTSTART;TZID=Europe/London:20250504T103000
DTEND;TZID=Europe/London:20250504T123000
DTSTAMP:20260419T160526
CREATED:20250506T143545Z
LAST-MODIFIED:20250506T161516Z
UID:3779-1746354600-1746361800@glastonburyurc.uk
SUMMARY:Meeting for Worship in Church
DESCRIPTION:
URL:https://glastonburyurc.uk/event/meeting-for-worship/
END:VEVENT
BEGIN:VEVENT
DTSTART;TZID=Europe/London:20250503T090000
DTEND;TZID=Europe/London:20250503T110000
DTSTAMP:20260419T160526
CREATED:20250506T143325Z
LAST-MODIFIED:20250506T161501Z
UID:3777-1746262800-1746270000@glastonburyurc.uk
SUMMARY:Breakfast Club in Large Hall
DESCRIPTION:
URL:https://glastonburyurc.uk/event/breakfast-club/
END:VEVENT
END:VCALENDAR