BEGIN:VCALENDAR
VERSION:2.0
PRODID:-//Glastonbury United Reformed Church - ECPv6.15.14//NONSGML v1.0//EN
CALSCALE:GREGORIAN
METHOD:PUBLISH
X-WR-CALNAME:Glastonbury United Reformed Church
X-ORIGINAL-URL:https://glastonburyurc.uk
X-WR-CALDESC:Events for Glastonbury United Reformed Church
REFRESH-INTERVAL;VALUE=DURATION:PT1H
X-Robots-Tag:noindex
X-PUBLISHED-TTL:PT1H
BEGIN:VTIMEZONE
TZID:Europe/London
BEGIN:DAYLIGHT
TZOFFSETFROM:+0000
TZOFFSETTO:+0100
TZNAME:BST
DTSTART:20240331T010000
END:DAYLIGHT
BEGIN:STANDARD
TZOFFSETFROM:+0100
TZOFFSETTO:+0000
TZNAME:GMT
DTSTART:20241027T010000
END:STANDARD
BEGIN:DAYLIGHT
TZOFFSETFROM:+0000
TZOFFSETTO:+0100
TZNAME:BST
DTSTART:20250330T010000
END:DAYLIGHT
BEGIN:STANDARD
TZOFFSETFROM:+0100
TZOFFSETTO:+0000
TZNAME:GMT
DTSTART:20251026T010000
END:STANDARD
BEGIN:DAYLIGHT
TZOFFSETFROM:+0000
TZOFFSETTO:+0100
TZNAME:BST
DTSTART:20260329T010000
END:DAYLIGHT
BEGIN:STANDARD
TZOFFSETFROM:+0100
TZOFFSETTO:+0000
TZNAME:GMT
DTSTART:20261025T010000
END:STANDARD
END:VTIMEZONE
BEGIN:VEVENT
DTSTART;TZID=Europe/London:20250731T130000
DTEND;TZID=Europe/London:20250731T180000
DTSTAMP:20260419T163238
CREATED:20250710T125418Z
LAST-MODIFIED:20250710T125419Z
UID:3972-1753966800-1753984800@glastonburyurc.uk
SUMMARY:Goddess Conference in Large Hall
DESCRIPTION:
URL:https://glastonburyurc.uk/event/goddess-conference-in-large-hall-2/
END:VEVENT
BEGIN:VEVENT
DTSTART;TZID=Europe/London:20250910T110000
DTEND;TZID=Europe/London:20250910T130000
DTSTAMP:20260419T163238
CREATED:20250910T092450Z
LAST-MODIFIED:20250910T092450Z
UID:3980-1757502000-1757509200@glastonburyurc.uk
SUMMARY:Event in large hall
DESCRIPTION:
URL:https://glastonburyurc.uk/event/event-in-large-hall-3/
END:VEVENT
BEGIN:VEVENT
DTSTART;TZID=Europe/London:20250911T183000
DTEND;TZID=Europe/London:20250911T213000
DTSTAMP:20260419T163238
CREATED:20250910T092618Z
LAST-MODIFIED:20250910T092618Z
UID:3982-1757615400-1757626200@glastonburyurc.uk
SUMMARY:Event in large hall
DESCRIPTION:
URL:https://glastonburyurc.uk/event/event-in-large-hall-4/
END:VEVENT
BEGIN:VEVENT
DTSTART;TZID=Europe/London:20250912T110000
DTEND;TZID=Europe/London:20250912T130000
DTSTAMP:20260419T163238
CREATED:20250910T092748Z
LAST-MODIFIED:20250910T092748Z
UID:3984-1757674800-1757682000@glastonburyurc.uk
SUMMARY:Event in Large Hall
DESCRIPTION:
URL:https://glastonburyurc.uk/event/event-in-large-hall-5/
END:VEVENT
BEGIN:VEVENT
DTSTART;TZID=Europe/London:20250914T190000
DTEND;TZID=Europe/London:20250914T210000
DTSTAMP:20260419T163238
CREATED:20250910T092856Z
LAST-MODIFIED:20250910T092856Z
UID:3986-1757876400-1757883600@glastonburyurc.uk
SUMMARY:event in meeting room
DESCRIPTION:
URL:https://glastonburyurc.uk/event/event-in-meeting-room-4/
END:VEVENT
BEGIN:VEVENT
DTSTART;TZID=Europe/London:20250915T093000
DTEND;TZID=Europe/London:20250915T123000
DTSTAMP:20260419T163238
CREATED:20250910T093002Z
LAST-MODIFIED:20250910T093002Z
UID:3988-1757928600-1757939400@glastonburyurc.uk
SUMMARY:event in large hall
DESCRIPTION:
URL:https://glastonburyurc.uk/event/event-in-large-hall-6/
END:VEVENT
BEGIN:VEVENT
DTSTART;TZID=Europe/London:20250915T190000
DTEND;TZID=Europe/London:20250915T210000
DTSTAMP:20260419T163238
CREATED:20250910T093102Z
LAST-MODIFIED:20250910T093103Z
UID:3990-1757962800-1757970000@glastonburyurc.uk
SUMMARY:event in large hall
DESCRIPTION:
URL:https://glastonburyurc.uk/event/event-in-large-hall-7/
END:VEVENT
BEGIN:VEVENT
DTSTART;TZID=Europe/London:20250916T093000
DTEND;TZID=Europe/London:20250916T113000
DTSTAMP:20260419T163238
CREATED:20250910T093219Z
LAST-MODIFIED:20250910T093219Z
UID:3992-1758015000-1758022200@glastonburyurc.uk
SUMMARY:event in large hall
DESCRIPTION:
URL:https://glastonburyurc.uk/event/event-in-large-hall-8/
END:VEVENT
BEGIN:VEVENT
DTSTART;TZID=Europe/London:20250916T170000
DTEND;TZID=Europe/London:20250916T193000
DTSTAMP:20260419T163238
CREATED:20250910T093324Z
LAST-MODIFIED:20250910T093324Z
UID:3994-1758042000-1758051000@glastonburyurc.uk
SUMMARY:event in large hall and meeting room
DESCRIPTION:
URL:https://glastonburyurc.uk/event/event-in-large-hall-and-meeting-room/
END:VEVENT
BEGIN:VEVENT
DTSTART;TZID=Europe/London:20250917T110000
DTEND;TZID=Europe/London:20250917T130000
DTSTAMP:20260419T163238
CREATED:20250910T104035Z
LAST-MODIFIED:20250910T104036Z
UID:3996-1758106800-1758114000@glastonburyurc.uk
SUMMARY:event in large hall
DESCRIPTION:
URL:https://glastonburyurc.uk/event/event-in-large-hall-9/
END:VEVENT
BEGIN:VEVENT
DTSTART;TZID=Europe/London:20250917T170000
DTEND;TZID=Europe/London:20250917T183000
DTSTAMP:20260419T163238
CREATED:20250910T104154Z
LAST-MODIFIED:20250910T104155Z
UID:3998-1758128400-1758133800@glastonburyurc.uk
SUMMARY:event in meeting room
DESCRIPTION:
URL:https://glastonburyurc.uk/event/event-in-meeting-room-5/
END:VEVENT
BEGIN:VEVENT
DTSTART;TZID=Europe/London:20250917T190000
DTEND;TZID=Europe/London:20250917T210000
DTSTAMP:20260419T163238
CREATED:20250910T104243Z
LAST-MODIFIED:20250910T104244Z
UID:4000-1758135600-1758142800@glastonburyurc.uk
SUMMARY:event in meeting room
DESCRIPTION:
URL:https://glastonburyurc.uk/event/event-in-meeting-room-6/
END:VEVENT
BEGIN:VEVENT
DTSTART;TZID=Europe/London:20250919T100000
DTEND;TZID=Europe/London:20250919T120000
DTSTAMP:20260419T163238
CREATED:20250910T104403Z
LAST-MODIFIED:20250910T104404Z
UID:4002-1758276000-1758283200@glastonburyurc.uk
SUMMARY:event in meeting room
DESCRIPTION:
URL:https://glastonburyurc.uk/event/event-in-meeting-room-7/
END:VEVENT
BEGIN:VEVENT
DTSTART;TZID=Europe/London:20250919T110000
DTEND;TZID=Europe/London:20250919T130000
DTSTAMP:20260419T163238
CREATED:20250910T104447Z
LAST-MODIFIED:20250910T104448Z
UID:4004-1758279600-1758286800@glastonburyurc.uk
SUMMARY:event in large hall
DESCRIPTION:
URL:https://glastonburyurc.uk/event/event-in-large-hall-10/
END:VEVENT
BEGIN:VEVENT
DTSTART;TZID=Europe/London:20250919T140000
DTEND;TZID=Europe/London:20250919T160000
DTSTAMP:20260419T163238
CREATED:20250910T104542Z
LAST-MODIFIED:20250910T104543Z
UID:4006-1758290400-1758297600@glastonburyurc.uk
SUMMARY:event in meeting room
DESCRIPTION:
URL:https://glastonburyurc.uk/event/event-in-meeting-room-8/
END:VEVENT
BEGIN:VEVENT
DTSTART;TZID=Europe/London:20250920T100000
DTEND;TZID=Europe/London:20250920T103000
DTSTAMP:20260419T163238
CREATED:20250910T104900Z
LAST-MODIFIED:20250910T104900Z
UID:4008-1758362400-1758364200@glastonburyurc.uk
SUMMARY:event in church and meeting room
DESCRIPTION:
URL:https://glastonburyurc.uk/event/event-in-church-and-meeting-room/
END:VEVENT
BEGIN:VEVENT
DTSTART;TZID=Europe/London:20250920T120000
DTEND;TZID=Europe/London:20250920T130000
DTSTAMP:20260419T163238
CREATED:20250910T105017Z
LAST-MODIFIED:20250910T105017Z
UID:4010-1758369600-1758373200@glastonburyurc.uk
SUMMARY:event in church and meeting room
DESCRIPTION:
URL:https://glastonburyurc.uk/event/event-in-church-and-meeting-room-2/
END:VEVENT
BEGIN:VEVENT
DTSTART;TZID=Europe/London:20250921T190000
DTEND;TZID=Europe/London:20250921T210000
DTSTAMP:20260419T163238
CREATED:20250910T105120Z
LAST-MODIFIED:20250910T105120Z
UID:4012-1758481200-1758488400@glastonburyurc.uk
SUMMARY:event in meeting room
DESCRIPTION:
URL:https://glastonburyurc.uk/event/event-in-meeting-room-9/
END:VEVENT
BEGIN:VEVENT
DTSTART;TZID=Europe/London:20250922T133000
DTEND;TZID=Europe/London:20250922T143000
DTSTAMP:20260419T163238
CREATED:20250910T105252Z
LAST-MODIFIED:20250910T105321Z
UID:4014-1758547800-1758551400@glastonburyurc.uk
SUMMARY:event in meeting room
DESCRIPTION:
URL:https://glastonburyurc.uk/event/event-in-meeting-room-10/
END:VEVENT
BEGIN:VEVENT
DTSTART;TZID=Europe/London:20250923T093000
DTEND;TZID=Europe/London:20250923T113000
DTSTAMP:20260419T163238
CREATED:20250910T105452Z
LAST-MODIFIED:20250910T105452Z
UID:4017-1758619800-1758627000@glastonburyurc.uk
SUMMARY:event in large hall
DESCRIPTION:
URL:https://glastonburyurc.uk/event/event-in-large-hall-11/
END:VEVENT
BEGIN:VEVENT
DTSTART;TZID=Europe/London:20250923T170000
DTEND;TZID=Europe/London:20250923T213000
DTSTAMP:20260419T163238
CREATED:20250910T105608Z
LAST-MODIFIED:20250910T105609Z
UID:4019-1758646800-1758663000@glastonburyurc.uk
SUMMARY:event on meeting room and large hall
DESCRIPTION:
URL:https://glastonburyurc.uk/event/event-on-meeting-room-and-large-hall/
END:VEVENT
BEGIN:VEVENT
DTSTART;TZID=Europe/London:20250924T110000
DTEND;TZID=Europe/London:20250924T130000
DTSTAMP:20260419T163238
CREATED:20250910T105719Z
LAST-MODIFIED:20250910T105719Z
UID:4021-1758711600-1758718800@glastonburyurc.uk
SUMMARY:event in large hall
DESCRIPTION:
URL:https://glastonburyurc.uk/event/event-in-large-hall-12/
END:VEVENT
BEGIN:VEVENT
DTSTART;TZID=Europe/London:20250924T170000
DTEND;TZID=Europe/London:20250924T183000
DTSTAMP:20260419T163238
CREATED:20250910T105810Z
LAST-MODIFIED:20250910T105810Z
UID:4023-1758733200-1758738600@glastonburyurc.uk
SUMMARY:event in meeting room
DESCRIPTION:
URL:https://glastonburyurc.uk/event/event-in-meeting-room-11/
END:VEVENT
BEGIN:VEVENT
DTSTART;TZID=Europe/London:20250924T170000
DTEND;TZID=Europe/London:20250924T183000
DTSTAMP:20260419T163238
CREATED:20250910T110002Z
LAST-MODIFIED:20250910T110003Z
UID:4025-1758733200-1758738600@glastonburyurc.uk
SUMMARY:event in meeting room
DESCRIPTION:
URL:https://glastonburyurc.uk/event/event-in-meeting-room-12/
END:VEVENT
BEGIN:VEVENT
DTSTART;TZID=Europe/London:20250924T190000
DTEND;TZID=Europe/London:20250924T210000
DTSTAMP:20260419T163238
CREATED:20250910T110054Z
LAST-MODIFIED:20250910T110054Z
UID:4027-1758740400-1758747600@glastonburyurc.uk
SUMMARY:event in large hall
DESCRIPTION:
URL:https://glastonburyurc.uk/event/event-in-large-hall-13/
END:VEVENT
BEGIN:VEVENT
DTSTART;TZID=Europe/London:20250926T100000
DTEND;TZID=Europe/London:20250926T120000
DTSTAMP:20260419T163238
CREATED:20250910T110259Z
LAST-MODIFIED:20250910T110300Z
UID:4031-1758880800-1758888000@glastonburyurc.uk
SUMMARY:event in meeting room
DESCRIPTION:
URL:https://glastonburyurc.uk/event/event-in-meeting-room-13/
END:VEVENT
BEGIN:VEVENT
DTSTART;TZID=Europe/London:20250926T110000
DTEND;TZID=Europe/London:20250926T130000
DTSTAMP:20260419T163238
CREATED:20250910T110158Z
LAST-MODIFIED:20250910T110159Z
UID:4029-1758884400-1758891600@glastonburyurc.uk
SUMMARY:event in large hall
DESCRIPTION:
URL:https://glastonburyurc.uk/event/event-in-large-hall-14/
END:VEVENT
BEGIN:VEVENT
DTSTART;TZID=Europe/London:20250927T140000
DTEND;TZID=Europe/London:20250927T170000
DTSTAMP:20260419T163238
CREATED:20250910T110351Z
LAST-MODIFIED:20250910T110351Z
UID:4033-1758981600-1758992400@glastonburyurc.uk
SUMMARY:event in large hall
DESCRIPTION:
URL:https://glastonburyurc.uk/event/event-in-large-hall-15/
END:VEVENT
BEGIN:VEVENT
DTSTART;TZID=Europe/London:20250928T190000
DTEND;TZID=Europe/London:20250928T210000
DTSTAMP:20260419T163238
CREATED:20250910T110439Z
LAST-MODIFIED:20250910T110439Z
UID:4035-1759086000-1759093200@glastonburyurc.uk
SUMMARY:event in meeting room
DESCRIPTION:
URL:https://glastonburyurc.uk/event/event-in-meeting-room-14/
END:VEVENT
BEGIN:VEVENT
DTSTART;TZID=Europe/London:20250929T093000
DTEND;TZID=Europe/London:20250929T123000
DTSTAMP:20260419T163238
CREATED:20250910T110604Z
LAST-MODIFIED:20250910T110605Z
UID:4037-1759138200-1759149000@glastonburyurc.uk
SUMMARY:event in large hall
DESCRIPTION:
URL:https://glastonburyurc.uk/event/event-in-large-hall-16/
END:VEVENT
END:VCALENDAR